BEGIN:VCALENDAR
VERSION:2.0
PRODID:-//wp-events-plugin.com//6.6.4.4//EN
TZID:America/Los_Angeles
X-WR-TIMEZONE:America/Los_Angeles
BEGIN:VEVENT
UID:8@peer2peeracademy.org
DTSTART;TZID=America/Los_Angeles:20240819T090000
DTEND;TZID=America/Los_Angeles:20240830T160000
DTSTAMP:20240815T224117Z
URL:https://peer2peeracademy.org/events/build-program-cohort-ii-august-19t
 h-august-23rd-and-august-26th-august-30th/
SUMMARY:Build Program - Cohort II: August 19th - August 23rd and August 26t
 h - August 30th
DESCRIPTION:The Professional Community Intervention Training Institute was 
 created in early 2005 specifically as a community/gang/crisis intervention
  institute that is a division of the much broader violence intercession-cr
 isis abatement firm under Maximum Force Enterprises. Our firm has been in 
 operation for over 35 years and has trained a multitude of diverse individ
 uals and groups both nationally &amp\; internationally.\nP.C.I.T.I.’s pr
 eparatory training was developed to provide effective skill sets\, direct 
 protocol creation\, standards of field operation\, and critical thinking a
 long with standard operating procedures-guidelines and replicable template
 s. This new\, unique model of community-based intervention transforms the 
 role of the “gang interventionist” to one of a “Professional Communi
 ty Intervention First Responder.”\n\nThe BUILD Program\n\nA set of core 
 competencies will be delivered to intervention workers through a combinati
 on of in-classroom didactic instruction sessions\, role playing/behavior a
 nd scenario driven modeling exercises performed at the PCITI training cent
 er and selected locations in the community.\n\nSessions will be offered mu
 ltiple times throughout the year. Each session will cover all the below to
 pics\, summing up to a total estimated instructional time of approximately
  80 hours per cohort.\n\nEach cohort will cover all of the areas of study 
 below:\n\nDirect Rehearsal/Operational Protocols\nThe “blueprint” or 
 “instruction sheet” for interventionist work. This core or foundation 
 of community/crisis intervention work establishes the operational protocol
 s /standard operating procedures within which the interventionists will op
 erate.\n\nPersonal Development/Standards of Behavior\nThe development of e
 ffective verbal\, written and physical presentation skills\, the ability t
 o teach others through applied case vignettes\, and the ability to provide
  feedback/consultation regarding a client or system issue to multiple audi
 ences.\n\nTangible Tasks\nThe successful operation and administration of v
 iolence intervention activities in community-based settings. Students will
  demonstrate knowledge of governmental reporting requirements\, the use of
  technology to assist with administrative tasks including reporting requir
 ements\, and business operation practices.\n\nApplied Hypothesis\nThe effe
 ctive use of psychological theories\, evidence- based methodologies\, and 
 violence prevention/de-escalation/mitigation best practices. Students will
  demonstrate a thorough knowledge of the dimensions of the human experienc
 e\, psychological interventions\, mental health perceptions across culture
 s and belief systems\, and developing best practices from intervention lit
 erature\n\nDiverse Policy Concerns\nThe understanding of the history\, for
 mation\, and implementation of public policy as it relates to violence and
  intervention practice. Students will demonstrate knowledge of the crimina
 l justice system including law enforcement and corrections\, the public an
 d private grant identification / management process\, and the political la
 ndscape. Students will also demonstrate the development of conflict resolu
 tion skills needed to navigate through political systems that impact neede
 d community gang interventions.\n\nStreet Apprenticeship /Scenario Engagem
 ent\nThe development of specific operational skill sets\, competence of ap
 plication and the absorbed capability to carry out pre-determined results 
 often with the minimum disbursement of time and energy. Under this profici
 ency\, the street apprenticeship is implemented - field training for both 
 new and seasoned practitioners where a structured competency or group of b
 asic set of skills are actually practiced in real life mock scenario engag
 ements.
ATTACH;FMTTYPE=image/jpeg:https://peer2peeracademy.org/wp-content/uploads/
 2024/03/logo-build-program.png
CATEGORIES:The BUILD Program
LOCATION:Build Offices\, 1409 W Vernon Ave.\, Los Angeles \, CA\, 90062\, U
 nited States
X-APPLE-STRUCTURED-LOCATION;VALUE=URI;X-ADDRESS=1409 W Vernon Ave.\, Los An
 geles \, CA\, 90062\, United States;X-APPLE-RADIUS=100;X-TITLE=Build Offic
 es:geo:0,0
END:VEVENT
BEGIN:VTIMEZONE
TZID:America/Los_Angeles
X-LIC-LOCATION:America/Los_Angeles
BEGIN:DAYLIGHT
DTSTART:20240310T030000
TZOFFSETFROM:-0800
TZOFFSETTO:-0700
TZNAME:PDT
END:DAYLIGHT
END:VTIMEZONE
END:VCALENDAR