BEGIN:VCALENDAR
VERSION:2.0
PRODID:-//wp-events-plugin.com//6.6.4.4//EN
TZID:America/Los_Angeles
X-WR-TIMEZONE:America/Los_Angeles
BEGIN:VEVENT
UID:49@peer2peeracademy.org
DTSTART;TZID=America/Los_Angeles:20240909T093000
DTEND;TZID=America/Los_Angeles:20240909T143000
DTSTAMP:20240902T172950Z
URL:https://peer2peeracademy.org/events/workplace-wellness-mental-health-t
 raining-august-30/
SUMMARY:Workplace Wellness Mental Health Training: September 9
DESCRIPTION:Miyume McKinnley’s mission is to eliminate the stigma that pr
 events the pursuit of mental health services through education\, community
  outreach\, innovative therapeutic approaches\, and removing barriers to a
 ccessing mental health support. Our mental health training and workshops a
 im to empower individuals and organizations with the knowledge and skills 
 needed to support mental well-being effectively. By investing in mental he
 alth education and awareness\, we can create healthier\, more supportive c
 ommunities and workplaces for everyone.\n\nMental Health Training\n\nSessi
 ons will be offered multiple times throughout the year.\n\nWorkplace Menta
 l Health Training\nHalf day\n\n 	Creating a mentally healthy workplace cul
 ture.\n 	Supporting employees' mental health needs.\n 	Addressing workplac
 e stressors and promoting work-life balance.\n
ATTACH;FMTTYPE=image/jpeg:https://peer2peeracademy.org/wp-content/uploads/
 2024/03/logo-Miyume-McKinley.png
CATEGORIES:Miyume McKinley LCSW
LOCATION:Ladera Park Senior Center\, 4750 W. 62nd St.\, Los Angeles\, CA\, 
 90056\, United States
X-APPLE-STRUCTURED-LOCATION;VALUE=URI;X-ADDRESS=4750 W. 62nd St.\, Los Ange
 les\, CA\, 90056\, United States;X-APPLE-RADIUS=100;X-TITLE=Ladera Park Se
 nior Center:geo:0,0
END:VEVENT
BEGIN:VTIMEZONE
TZID:America/Los_Angeles
X-LIC-LOCATION:America/Los_Angeles
BEGIN:DAYLIGHT
DTSTART:20240310T030000
TZOFFSETFROM:-0800
TZOFFSETTO:-0700
TZNAME:PDT
END:DAYLIGHT
END:VTIMEZONE
END:VCALENDAR